BEGIN:VCALENDAR
VERSION:2.0
PRODID:-//stmarysdover.org//eCatholic//EN
X-WR-TIMEZONE:LocalTZ
BEGIN:VTIMEZONE
TZID:LocalTZ
X-LIC-LOCATION:LocalTZ
BEGIN:DAYLIGHT
TZOFFSETFROM:-0500
TZOFFSETTO:-0400
TZNAME:LocalTZ
DTSTART:19700308T020000
RRULE:FREQ=YEARLY;BYMONTH=3;BYDAY=2SU
END:DAYLIGHT
BEGIN:STANDARD
TZOFFSETFROM:-0400
TZOFFSETTO:-0500
TZNAME:LocalTZ
DTSTART:19701101T020000
RRULE:FREQ=YEARLY;BYMONTH=11;BYDAY=1SU
END:STANDARD
END:VTIMEZONE
BEGIN:VEVENT
UID:87720@stmarysdover.org
DTSTAMP:20260419T181835Z
DTSTART:20260428T190000
DTEND:20260428T210000
RRULE:FREQ=MONTHLY;BYDAY=TU;BYSETPOS=4
SUMMARY:Rosary Devotion
DESCRIPTION:Join us as St. Mary's hosts a "Ray of Hope Rosary" and fellows
 hip. Takes place every 4th Tuesday of the month.
END:VEVENT
END:VCALENDAR
